BEGIN:VCALENDAR
VERSION:2.0
PRODID:-//Howard Hall - ECPv6.15.20//NONSGML v1.0//EN
CALSCALE:GREGORIAN
METHOD:PUBLISH
X-WR-CALNAME:Howard Hall
X-ORIGINAL-URL:https://braintreemasoniccentre.org.uk
X-WR-CALDESC:Events for Howard Hall
REFRESH-INTERVAL;VALUE=DURATION:PT1H
X-Robots-Tag:noindex
X-PUBLISHED-TTL:PT1H
BEGIN:VTIMEZONE
TZID:UTC
BEGIN:STANDARD
TZOFFSETFROM:+0000
TZOFFSETTO:+0000
TZNAME:UTC
DTSTART:20220101T000000
END:STANDARD
END:VTIMEZONE
BEGIN:VEVENT
DTSTART;TZID=UTC:20260425T100000
DTEND;TZID=UTC:20260425T150000
DTSTAMP:20260425T115836
CREATED:20250728T164242Z
LAST-MODIFIED:20250728T164242Z
UID:107428-1777111200-1777129200@braintreemasoniccentre.org.uk
SUMMARY:Braintree St George MEETING
DESCRIPTION:
URL:https://braintreemasoniccentre.org.uk/event/braintree-st-george-meeting-2/
END:VEVENT
BEGIN:VEVENT
DTSTART;TZID=UTC:20260425T190000
DTEND;TZID=UTC:20260425T230000
DTSTAMP:20260425T115836
CREATED:20260412T131814Z
LAST-MODIFIED:20260412T131814Z
UID:108147-1777143600-1777158000@braintreemasoniccentre.org.uk
SUMMARY:QUIZ NIGHT - Dining Room & Bar
DESCRIPTION:
URL:https://braintreemasoniccentre.org.uk/event/quiz-night-dining-room-bar/
END:VEVENT
BEGIN:VEVENT
DTSTART;TZID=UTC:20260427T160000
DTEND;TZID=UTC:20260427T230000
DTSTAMP:20260425T115836
CREATED:20250802T090417Z
LAST-MODIFIED:20250802T090450Z
UID:107483-1777305600-1777330800@braintreemasoniccentre.org.uk
SUMMARY:St Mary Chapter - MEETING - INSTALLATION
DESCRIPTION:
URL:https://braintreemasoniccentre.org.uk/event/st-mary-chapter-meeting-2/
END:VEVENT
BEGIN:VEVENT
DTSTART;TZID=UTC:20260428T160000
DTEND;TZID=UTC:20260428T230000
DTSTAMP:20260425T115836
CREATED:20250802T090938Z
LAST-MODIFIED:20250802T090938Z
UID:107494-1777392000-1777417200@braintreemasoniccentre.org.uk
SUMMARY:Thomas Paycocke Lodge - MEETING
DESCRIPTION:
URL:https://braintreemasoniccentre.org.uk/event/thomas-paycocke-lodge-meeting-4/
END:VEVENT
BEGIN:VEVENT
DTSTART;TZID=UTC:20231011T123000
DTEND;TZID=UTC:20231011T133000
DTSTAMP:20260425T115836
CREATED:20230906T154200Z
LAST-MODIFIED:20230906T154200Z
UID:339-1697027400-1697031000@braintreemasoniccentre.org.uk
SUMMARY:Jackie Scott Dancing
DESCRIPTION:
URL:https://braintreemasoniccentre.org.uk/event/jackie-scott-dancing-5/
END:VEVENT
BEGIN:VEVENT
DTSTART;TZID=UTC:20230907T193000
DTEND;TZID=UTC:20230907T213000
DTSTAMP:20260425T115836
CREATED:20230906T145926Z
LAST-MODIFIED:20230906T145926Z
UID:259-1694115000-1694122200@braintreemasoniccentre.org.uk
SUMMARY:Rosslyn LOI
DESCRIPTION:
URL:https://braintreemasoniccentre.org.uk/event/rosslyn-loi/
END:VEVENT
END:VCALENDAR